Package: GladiaTOX Version: 1.23.0 Command: rm -rf GladiaTOX.buildbin-libdir && mkdir GladiaTOX.buildbin-libdir && E:\biocbuild\bbs-3.21-bioc\R\bin\R.exe CMD INSTALL --build --library=GladiaTOX.buildbin-libdir GladiaTOX_1.23.0.tar.gz StartedAt: 2025-02-05 08:03:16 -0500 (Wed, 05 Feb 2025) EndedAt: 2025-02-05 08:04:42 -0500 (Wed, 05 Feb 2025) EllapsedTime: 86.3 seconds RetCode: 0 Status: OK PackageFile: GladiaTOX_1.23.0.zip PackageFileSize: 2.891 MiB