Package: GladiaTOX Version: 1.23.0 Command: chmod a+r GladiaTOX -R && E:\biocbuild\bbs-3.21-bioc\R\bin\R.exe CMD build --keep-empty-dirs --no-resave-data GladiaTOX StartedAt: 2025-02-09 18:59:58 -0500 (Sun, 09 Feb 2025) EndedAt: 2025-02-09 19:06:04 -0500 (Sun, 09 Feb 2025) EllapsedTime: 365.9 seconds RetCode: 0 Status: OK PackageFile: GladiaTOX_1.23.0.tar.gz PackageFileSize: 2.656 MiB