Package: GladiaTOX Version: 1.23.0 Command: E:\biocbuild\bbs-3.21-bioc\R\bin\R.exe CMD check --no-multiarch --install=check:GladiaTOX.install-out.txt --library=E:\biocbuild\bbs-3.21-bioc\R\library --no-vignettes --timings GladiaTOX_1.23.0.tar.gz StartedAt: 2025-02-05 02:04:06 -0500 (Wed, 05 Feb 2025) EndedAt: 2025-02-05 02:06:54 -0500 (Wed, 05 Feb 2025) EllapsedTime: 167.5 seconds RetCode: 0 Status: OK CheckDir: GladiaTOX.Rcheck Warnings: 0