Package: GlobalAncova Version: 4.25.0 Command: rm -rf GlobalAncova.buildbin-libdir && mkdir GlobalAncova.buildbin-libdir && /Users/biocbuild/BBS/utils/build-universal.sh GlobalAncova_4.25.0.tar.gz /Library/Frameworks/R.framework/Resources/bin/R GlobalAncova.buildbin-libdir StartedAt: 2025-02-09 22:16:17 -0500 (Sun, 09 Feb 2025) EndedAt: 2025-02-09 22:16:29 -0500 (Sun, 09 Feb 2025) EllapsedTime: 11.2 seconds RetCode: 0 Status: OK PackageFile: GlobalAncova_4.25.0.tgz PackageFileSize: 1.625 MiB