Package: GlobalAncova Version: 4.25.0 Command: /Library/Frameworks/R.framework/Resources/bin/R CMD build --keep-empty-dirs --no-resave-data GlobalAncova StartedAt: 2025-02-09 16:28:51 -0500 (Sun, 09 Feb 2025) EndedAt: 2025-02-09 16:32:03 -0500 (Sun, 09 Feb 2025) EllapsedTime: 192.0 seconds RetCode: 0 Status: OK PackageFile: GlobalAncova_4.25.0.tar.gz PackageFileSize: 1.208 MiB