Package: GlobalAncova Version: 4.25.0 Command: /Library/Frameworks/R.framework/Resources/bin/R CMD check --install=check:GlobalAncova.install-out.txt --library=/Library/Frameworks/R.framework/Resources/library --no-vignettes --timings GlobalAncova_4.25.0.tar.gz StartedAt: 2025-02-09 19:28:48 -0500 (Sun, 09 Feb 2025) EndedAt: 2025-02-09 19:29:51 -0500 (Sun, 09 Feb 2025) EllapsedTime: 62.7 seconds RetCode: 0 Status: WARNINGS CheckDir: GlobalAncova.Rcheck Warnings: 1