Package: GlobalAncova Version: 4.25.0 Command: /Library/Frameworks/R.framework/Resources/bin/R CMD INSTALL GlobalAncova StartedAt: 2025-02-03 15:56:58 -0500 (Mon, 03 Feb 2025) EndedAt: 2025-02-03 15:57:07 -0500 (Mon, 03 Feb 2025) EllapsedTime: 9.5 seconds RetCode: 0 Status: OK