Package: GlobalAncova Version: 4.25.0 Command: /home/biocbuild/R/R/bin/R CMD build --keep-empty-dirs --no-resave-data GlobalAncova StartedAt: 2025-01-28 23:14:30 -0000 (Tue, 28 Jan 2025) EndedAt: 2025-01-28 23:29:02 -0000 (Tue, 28 Jan 2025) EllapsedTime: 872.3 seconds RetCode: 0 Status: OK PackageFile: GlobalAncova_4.25.0.tar.gz PackageFileSize: 1.187 MiB