Package: GlobalAncova Version: 4.25.0 Command: /home/biocbuild/R/R/bin/R CMD INSTALL GlobalAncova StartedAt: 2025-01-29 20:21:10 -0000 (Wed, 29 Jan 2025) EndedAt: 2025-01-29 20:21:44 -0000 (Wed, 29 Jan 2025) EllapsedTime: 34.0 seconds RetCode: 0 Status: OK