Package: GlobalAncova Version: 4.25.0 Command: rm -rf GlobalAncova.buildbin-libdir && mkdir GlobalAncova.buildbin-libdir && E:\biocbuild\bbs-3.21-bioc\R\bin\R.exe CMD INSTALL --build --library=GlobalAncova.buildbin-libdir GlobalAncova_4.25.0.tar.gz StartedAt: 2025-02-04 08:05:11 -0500 (Tue, 04 Feb 2025) EndedAt: 2025-02-04 08:06:35 -0500 (Tue, 04 Feb 2025) EllapsedTime: 84.2 seconds RetCode: 0 Status: OK PackageFile: GlobalAncova_4.25.0.zip PackageFileSize: 1.362 MiB