Package: GlobalAncova Version: 4.25.0 Command: chmod a+r GlobalAncova -R && E:\biocbuild\bbs-3.21-bioc\R\bin\R.exe CMD build --keep-empty-dirs --no-resave-data GlobalAncova StartedAt: 2025-02-03 19:12:04 -0500 (Mon, 03 Feb 2025) EndedAt: 2025-02-03 19:22:27 -0500 (Mon, 03 Feb 2025) EllapsedTime: 623.1 seconds RetCode: 0 Status: OK PackageFile: GlobalAncova_4.25.0.tar.gz PackageFileSize: 963.1 KiB