Package: GlobalAncova Version: 4.25.0 Command: E:\biocbuild\bbs-3.21-bioc\R\bin\R.exe CMD check --no-multiarch --install=check:GlobalAncova.install-out.txt --library=E:\biocbuild\bbs-3.21-bioc\R\library --no-vignettes --timings GlobalAncova_4.25.0.tar.gz StartedAt: 2025-02-10 01:37:43 -0500 (Mon, 10 Feb 2025) EndedAt: 2025-02-10 01:41:01 -0500 (Mon, 10 Feb 2025) EllapsedTime: 197.9 seconds RetCode: 0 Status: WARNINGS CheckDir: GlobalAncova.Rcheck Warnings: 1