Package: GlobalAncova Version: 4.25.0 Command: E:\biocbuild\bbs-3.21-bioc\R\bin\R.exe CMD INSTALL GlobalAncova StartedAt: 2025-02-09 16:00:31 -0500 (Sun, 09 Feb 2025) EndedAt: 2025-02-09 16:01:50 -0500 (Sun, 09 Feb 2025) EllapsedTime: 78.6 seconds RetCode: 0 Status: OK