Package: GmicR Version: 1.21.0 Command: /Library/Frameworks/R.framework/Resources/bin/R CMD check --install=check:GmicR.install-out.txt --library=/Library/Frameworks/R.framework/Resources/library --no-vignettes --timings GmicR_1.21.0.tar.gz StartedAt: 2025-02-09 19:29:18 -0500 (Sun, 09 Feb 2025) EndedAt: 2025-02-09 19:35:47 -0500 (Sun, 09 Feb 2025) EllapsedTime: 388.6 seconds RetCode: 0 Status: WARNINGS CheckDir: GmicR.Rcheck Warnings: 1