Package: GmicR Version: 1.21.0 Command: /home/biocbuild/R/R/bin/R CMD build --keep-empty-dirs --no-resave-data GmicR StartedAt: 2025-01-28 23:15:36 -0000 (Tue, 28 Jan 2025) EndedAt: 2025-01-28 23:31:23 -0000 (Tue, 28 Jan 2025) EllapsedTime: 947.3 seconds RetCode: 0 Status: OK PackageFile: GmicR_1.21.0.tar.gz PackageFileSize: 3.425 MiB