Package: GmicR Version: 1.21.0 Command: /home/biocbuild/bbs-3.21-bioc/R/bin/R CMD check --install=check:GmicR.install-out.txt --library=/home/biocbuild/bbs-3.21-bioc/R/site-library --timings GmicR_1.21.0.tar.gz StartedAt: 2025-02-09 22:48:09 -0500 (Sun, 09 Feb 2025) EndedAt: 2025-02-09 23:13:04 -0500 (Sun, 09 Feb 2025) EllapsedTime: 1495.6 seconds RetCode: 0 Status: WARNINGS CheckDir: GmicR.Rcheck Warnings: 1