Package: GmicR Version: 1.21.0 Command: chmod a+r GmicR -R && E:\biocbuild\bbs-3.21-bioc\R\bin\R.exe CMD build --keep-empty-dirs --no-resave-data GmicR StartedAt: 2025-02-09 19:00:50 -0500 (Sun, 09 Feb 2025) EndedAt: 2025-02-09 19:13:00 -0500 (Sun, 09 Feb 2025) EllapsedTime: 729.4 seconds RetCode: 0 Status: OK PackageFile: GmicR_1.21.0.tar.gz PackageFileSize: 3.4 MiB