Package: GrafGen Version: 1.3.0 Command: rm -rf GrafGen.buildbin-libdir && mkdir GrafGen.buildbin-libdir && /Users/biocbuild/BBS/utils/build-universal.sh GrafGen_1.3.0.tar.gz /Library/Frameworks/R.framework/Resources/bin/R GrafGen.buildbin-libdir StartedAt: 2025-02-10 22:18:24 -0500 (Mon, 10 Feb 2025) EndedAt: 2025-02-10 22:18:34 -0500 (Mon, 10 Feb 2025) EllapsedTime: 10.2 seconds RetCode: 0 Status: OK PackageFile: GrafGen_1.3.0.tgz PackageFileSize: 3.213 MiB