Package: GrafGen Version: 1.3.0 Command: /home/biocbuild/R/R/bin/R CMD build --keep-empty-dirs --no-resave-data GrafGen StartedAt: 2025-01-28 23:21:12 -0000 (Tue, 28 Jan 2025) EndedAt: 2025-01-28 23:22:01 -0000 (Tue, 28 Jan 2025) EllapsedTime: 49.0 seconds RetCode: 0 Status: OK PackageFile: GrafGen_1.3.0.tar.gz PackageFileSize: 3.022 MiB