Package: GrafGen Version: 1.3.0 Command: /Library/Frameworks/R.framework/Resources/bin/R CMD build --keep-empty-dirs --no-resave-data GrafGen StartedAt: 2025-02-10 16:54:28 -0500 (Mon, 10 Feb 2025) EndedAt: 2025-02-10 16:55:08 -0500 (Mon, 10 Feb 2025) EllapsedTime: 40.1 seconds RetCode: 0 Status: OK PackageFile: GrafGen_1.3.0.tar.gz PackageFileSize: 3.103 MiB