Package: GrafGen Version: 1.3.0 Command: /Library/Frameworks/R.framework/Resources/bin/R CMD check --install=check:GrafGen.install-out.txt --library=/Library/Frameworks/R.framework/Resources/library --no-vignettes --timings GrafGen_1.3.0.tar.gz StartedAt: 2025-02-10 21:28:03 -0500 (Mon, 10 Feb 2025) EndedAt: 2025-02-10 21:30:00 -0500 (Mon, 10 Feb 2025) EllapsedTime: 117.1 seconds RetCode: 0 Status: WARNINGS CheckDir: GrafGen.Rcheck Warnings: 1