Package: GrafGen Version: 1.3.0 Command: /Library/Frameworks/R.framework/Resources/bin/R CMD INSTALL GrafGen StartedAt: 2025-02-10 15:42:07 -0500 (Mon, 10 Feb 2025) EndedAt: 2025-02-10 15:42:40 -0500 (Mon, 10 Feb 2025) EllapsedTime: 32.4 seconds RetCode: 0 Status: OK