Package: GrafGen Version: 1.3.0 Command: /home/biocbuild/bbs-3.21-bioc/R/bin/R CMD INSTALL GrafGen StartedAt: 2025-02-10 15:24:38 -0500 (Mon, 10 Feb 2025) EndedAt: 2025-02-10 15:25:01 -0500 (Mon, 10 Feb 2025) EllapsedTime: 22.8 seconds RetCode: 0 Status: OK