Package: GrafGen Version: 1.3.0 Command: rm -rf GrafGen.buildbin-libdir && mkdir GrafGen.buildbin-libdir && E:\biocbuild\bbs-3.21-bioc\R\bin\R.exe CMD INSTALL --build --library=GrafGen.buildbin-libdir GrafGen_1.3.0.tar.gz StartedAt: 2025-02-11 08:05:54 -0500 (Tue, 11 Feb 2025) EndedAt: 2025-02-11 08:06:31 -0500 (Tue, 11 Feb 2025) EllapsedTime: 37.7 seconds RetCode: 0 Status: OK PackageFile: GrafGen_1.3.0.zip PackageFileSize: 3.446 MiB