Package: GrafGen Version: 1.3.0 Command: chmod a+r GrafGen -R && E:\biocbuild\bbs-3.21-bioc\R\bin\R.exe CMD build --keep-empty-dirs --no-resave-data GrafGen StartedAt: 2025-02-10 19:14:34 -0500 (Mon, 10 Feb 2025) EndedAt: 2025-02-10 19:15:44 -0500 (Mon, 10 Feb 2025) EllapsedTime: 70.0 seconds RetCode: 0 Status: OK PackageFile: GrafGen_1.3.0.tar.gz PackageFileSize: 2.986 MiB