Package: GrafGen Version: 1.3.0 Command: E:\biocbuild\bbs-3.21-bioc\R\bin\R.exe CMD check --no-multiarch --install=check:GrafGen.install-out.txt --library=E:\biocbuild\bbs-3.21-bioc\R\library --no-vignettes --timings GrafGen_1.3.0.tar.gz StartedAt: 2025-02-11 01:55:27 -0500 (Tue, 11 Feb 2025) EndedAt: 2025-02-11 01:57:53 -0500 (Tue, 11 Feb 2025) EllapsedTime: 146.7 seconds RetCode: 0 Status: OK CheckDir: GrafGen.Rcheck Warnings: 0