Package: GraphAlignment Version: 1.71.0 Command: /Library/Frameworks/R.framework/Resources/bin/R CMD build --keep-empty-dirs --no-resave-data GraphAlignment StartedAt: 2025-02-09 16:32:13 -0500 (Sun, 09 Feb 2025) EndedAt: 2025-02-09 16:32:18 -0500 (Sun, 09 Feb 2025) EllapsedTime: 5.1 seconds RetCode: 0 Status: OK PackageFile: GraphAlignment_1.71.0.tar.gz PackageFileSize: 591.7 KiB