Package: GraphAlignment Version: 1.71.0 Command: E:\biocbuild\bbs-3.21-bioc\R\bin\R.exe CMD INSTALL GraphAlignment StartedAt: 2025-02-04 15:17:01 -0500 (Tue, 04 Feb 2025) EndedAt: 2025-02-04 15:17:27 -0500 (Tue, 04 Feb 2025) EllapsedTime: 26.3 seconds RetCode: 0 Status: OK