Package: GraphPAC Version: 1.49.0 Command: rm -rf GraphPAC.buildbin-libdir && mkdir GraphPAC.buildbin-libdir && /Users/biocbuild/BBS/utils/build-universal.sh GraphPAC_1.49.0.tar.gz /Library/Frameworks/R.framework/Resources/bin/R GraphPAC.buildbin-libdir StartedAt: 2025-02-09 22:16:43 -0500 (Sun, 09 Feb 2025) EndedAt: 2025-02-09 22:16:50 -0500 (Sun, 09 Feb 2025) EllapsedTime: 7.1 seconds RetCode: 0 Status: OK PackageFile: GraphPAC_1.49.0.tgz PackageFileSize: 522.2 KiB