Package: GraphPAC Version: 1.49.0 Command: /Library/Frameworks/R.framework/Resources/bin/R CMD INSTALL GraphPAC StartedAt: 2025-02-09 15:22:20 -0500 (Sun, 09 Feb 2025) EndedAt: 2025-02-09 15:22:26 -0500 (Sun, 09 Feb 2025) EllapsedTime: 5.5 seconds RetCode: 0 Status: OK