Package: GraphPAC Version: 1.49.0 Command: rm -rf GraphPAC.buildbin-libdir && mkdir GraphPAC.buildbin-libdir && /Users/biocbuild/BBS/utils/build-universal.sh GraphPAC_1.49.0.tar.gz /Library/Frameworks/R.framework/Resources/bin/R GraphPAC.buildbin-libdir StartedAt: 2025-02-13 00:39:53 -0500 (Thu, 13 Feb 2025) EndedAt: 2025-02-13 00:40:15 -0500 (Thu, 13 Feb 2025) EllapsedTime: 22.1 seconds RetCode: 0 Status: OK PackageFile: GraphPAC_1.49.0.tgz PackageFileSize: 521.1 KiB