Package: GraphPAC Version: 1.49.0 Command: /home/biocbuild/bbs-3.21-bioc/R/bin/R CMD build --keep-empty-dirs --no-resave-data GraphPAC StartedAt: 2025-02-12 17:27:34 -0500 (Wed, 12 Feb 2025) EndedAt: 2025-02-12 17:28:52 -0500 (Wed, 12 Feb 2025) EllapsedTime: 78.0 seconds RetCode: 0 Status: OK PackageFile: GraphPAC_1.49.0.tar.gz PackageFileSize: 705.9 KiB