Package: GraphPAC Version: 1.49.0 Command: /home/biocbuild/bbs-3.21-bioc/R/bin/R CMD check --install=check:GraphPAC.install-out.txt --library=/home/biocbuild/bbs-3.21-bioc/R/site-library --timings GraphPAC_1.49.0.tar.gz StartedAt: 2025-02-12 22:55:46 -0500 (Wed, 12 Feb 2025) EndedAt: 2025-02-12 22:57:56 -0500 (Wed, 12 Feb 2025) EllapsedTime: 130.2 seconds RetCode: 0 Status: OK CheckDir: GraphPAC.Rcheck Warnings: 0