Package: GreyListChIP Version: 1.39.0 Command: /Library/Frameworks/R.framework/Resources/bin/R CMD build --keep-empty-dirs --no-resave-data GreyListChIP StartedAt: 2025-02-09 16:32:32 -0500 (Sun, 09 Feb 2025) EndedAt: 2025-02-09 16:32:53 -0500 (Sun, 09 Feb 2025) EllapsedTime: 21.2 seconds RetCode: 0 Status: OK PackageFile: GreyListChIP_1.39.0.tar.gz PackageFileSize: 341 KiB