Package: GreyListChIP Version: 1.39.0 Command: /Library/Frameworks/R.framework/Resources/bin/R CMD check --install=check:GreyListChIP.install-out.txt --library=/Library/Frameworks/R.framework/Resources/library --no-vignettes --timings GreyListChIP_1.39.0.tar.gz StartedAt: 2025-02-09 19:32:46 -0500 (Sun, 09 Feb 2025) EndedAt: 2025-02-09 19:34:30 -0500 (Sun, 09 Feb 2025) EllapsedTime: 104.2 seconds RetCode: 0 Status: OK CheckDir: GreyListChIP.Rcheck Warnings: 0