Package: GreyListChIP Version: 1.39.0 Command: /Library/Frameworks/R.framework/Resources/bin/R CMD INSTALL GreyListChIP StartedAt: 2025-02-04 15:10:36 -0500 (Tue, 04 Feb 2025) EndedAt: 2025-02-04 15:10:50 -0500 (Tue, 04 Feb 2025) EllapsedTime: 14.0 seconds RetCode: 0 Status: OK