Package: GreyListChIP Version: 1.39.0 Command: /home/biocbuild/R/R/bin/R CMD build --keep-empty-dirs --no-resave-data GreyListChIP StartedAt: 2025-01-28 23:24:01 -0000 (Tue, 28 Jan 2025) EndedAt: 2025-01-28 23:25:07 -0000 (Tue, 28 Jan 2025) EllapsedTime: 66.0 seconds RetCode: 0 Status: OK PackageFile: GreyListChIP_1.39.0.tar.gz PackageFileSize: 334.4 KiB