Package: GreyListChIP Version: 1.39.0 Command: /home/biocbuild/R/R/bin/R CMD check --install=check:GreyListChIP.install-out.txt --library=/home/biocbuild/R/R/site-library --no-vignettes --timings GreyListChIP_1.39.0.tar.gz StartedAt: 2025-01-28 11:17:39 -0000 (Tue, 28 Jan 2025) EndedAt: 2025-01-28 11:23:15 -0000 (Tue, 28 Jan 2025) EllapsedTime: 336.4 seconds RetCode: 0 Status: OK CheckDir: GreyListChIP.Rcheck Warnings: 0