Package: GreyListChIP Version: 1.39.0 Command: /home/biocbuild/R/R/bin/R CMD INSTALL GreyListChIP StartedAt: 2025-01-29 19:54:32 -0000 (Wed, 29 Jan 2025) EndedAt: 2025-01-29 19:55:19 -0000 (Wed, 29 Jan 2025) EllapsedTime: 46.7 seconds RetCode: 0 Status: OK