Package: GreyListChIP Version: 1.39.0 Command: /home/biocbuild/bbs-3.21-bioc/R/bin/R CMD build --keep-empty-dirs --no-resave-data GreyListChIP StartedAt: 2025-02-04 17:28:56 -0500 (Tue, 04 Feb 2025) EndedAt: 2025-02-04 17:29:44 -0500 (Tue, 04 Feb 2025) EllapsedTime: 48.0 seconds RetCode: 0 Status: OK PackageFile: GreyListChIP_1.39.0.tar.gz PackageFileSize: 341.8 KiB