Package: GreyListChIP Version: 1.39.0 Command: rm -rf GreyListChIP.buildbin-libdir && mkdir GreyListChIP.buildbin-libdir && E:\biocbuild\bbs-3.21-bioc\R\bin\R.exe CMD INSTALL --build --library=GreyListChIP.buildbin-libdir GreyListChIP_1.39.0.tar.gz StartedAt: 2025-02-05 08:05:10 -0500 (Wed, 05 Feb 2025) EndedAt: 2025-02-05 08:06:56 -0500 (Wed, 05 Feb 2025) EllapsedTime: 105.3 seconds RetCode: 0 Status: OK PackageFile: GreyListChIP_1.39.0.zip PackageFileSize: 901.8 KiB