Package: GreyListChIP Version: 1.39.0 Command: chmod a+r GreyListChIP -R && E:\biocbuild\bbs-3.21-bioc\R\bin\R.exe CMD build --keep-empty-dirs --no-resave-data GreyListChIP StartedAt: 2025-02-09 19:05:11 -0500 (Sun, 09 Feb 2025) EndedAt: 2025-02-09 19:06:23 -0500 (Sun, 09 Feb 2025) EllapsedTime: 71.4 seconds RetCode: 0 Status: OK PackageFile: GreyListChIP_1.39.0.tar.gz PackageFileSize: 341.7 KiB