Package: Gviz Version: 1.51.0 Command: /Library/Frameworks/R.framework/Resources/bin/R CMD INSTALL Gviz StartedAt: 2025-02-09 15:16:27 -0500 (Sun, 09 Feb 2025) EndedAt: 2025-02-09 15:16:53 -0500 (Sun, 09 Feb 2025) EllapsedTime: 25.4 seconds RetCode: 0 Status: OK