Package: Gviz Version: 1.51.0 Command: /home/biocbuild/R/R/bin/R CMD INSTALL Gviz StartedAt: 2025-01-29 20:08:25 -0000 (Wed, 29 Jan 2025) EndedAt: 2025-01-29 20:09:54 -0000 (Wed, 29 Jan 2025) EllapsedTime: 89.0 seconds RetCode: 0 Status: OK