Package: Gviz Version: 1.51.0 Command: chmod a+r Gviz -R && E:\biocbuild\bbs-3.21-bioc\R\bin\R.exe CMD build --keep-empty-dirs --no-resave-data Gviz StartedAt: 2025-02-12 19:13:42 -0500 (Wed, 12 Feb 2025) EndedAt: 2025-02-12 19:19:24 -0500 (Wed, 12 Feb 2025) EllapsedTime: 341.6 seconds RetCode: 0 Status: OK PackageFile: Gviz_1.51.0.tar.gz PackageFileSize: 5.93 MiB