Package: Gviz Version: 1.51.0 Command: E:\biocbuild\bbs-3.21-bioc\R\bin\R.exe CMD check --no-multiarch --install=check:Gviz.install-out.txt --library=E:\biocbuild\bbs-3.21-bioc\R\library --no-vignettes --timings Gviz_1.51.0.tar.gz StartedAt: 2025-02-10 01:48:37 -0500 (Mon, 10 Feb 2025) EndedAt: 2025-02-10 02:02:29 -0500 (Mon, 10 Feb 2025) EllapsedTime: 831.5 seconds RetCode: 0 Status: OK CheckDir: Gviz.Rcheck Warnings: 0