Package: Gviz Version: 1.51.0 Command: E:\biocbuild\bbs-3.21-bioc\R\bin\R.exe CMD INSTALL Gviz StartedAt: 2025-02-09 16:41:58 -0500 (Sun, 09 Feb 2025) EndedAt: 2025-02-09 16:43:41 -0500 (Sun, 09 Feb 2025) EllapsedTime: 102.2 seconds RetCode: 0 Status: OK