Package: HDF5Array Version: 1.35.12 Maintainer: Hervé Pagès MaintainerEmail: hpages.on.github at gmail.com git_url: https://git.bioconductor.org/packages/HDF5Array git_branch: devel git_last_commit: 3c4fabb git_last_commit_date: 2025-02-12 02:24:47 -0500 (Wed, 12 Feb 2025)