Package: HDF5Array Version: 1.35.12 Command: rm -rf HDF5Array.buildbin-libdir && mkdir HDF5Array.buildbin-libdir && /Users/biocbuild/BBS/utils/build-universal.sh HDF5Array_1.35.12.tar.gz /Library/Frameworks/R.framework/Resources/bin/R HDF5Array.buildbin-libdir StartedAt: 2025-02-09 22:17:08 -0500 (Sun, 09 Feb 2025) EndedAt: 2025-02-09 22:17:19 -0500 (Sun, 09 Feb 2025) EllapsedTime: 10.2 seconds RetCode: 0 Status: OK PackageFile: HDF5Array_1.35.12.tgz PackageFileSize: 8.578 MiB