Package: HDF5Array Version: 1.35.12 Command: /Library/Frameworks/R.framework/Resources/bin/R CMD build --keep-empty-dirs --no-resave-data HDF5Array StartedAt: 2025-02-09 16:35:29 -0500 (Sun, 09 Feb 2025) EndedAt: 2025-02-09 16:53:12 -0500 (Sun, 09 Feb 2025) EllapsedTime: 1063.7 seconds RetCode: 0 Status: OK PackageFile: HDF5Array_1.35.12.tar.gz PackageFileSize: 7.958 MiB